BEGIN:VCALENDAR
VERSION:2.0
PRODID:-//Contratero//ES
CALSCALE:GREGORIAN
METHOD:PUBLISH
BEGIN:VEVENT
UID:26 009 SR JD AS OB31@contratero.es
DTSTAMP:20260419T154709Z
DTSTART:20260406T235959
DTEND:20260407T005959
SUMMARY:Cierre: Mantenimiento de la Plataforma de Frontales de cor
DESCRIPTION:Mantenimiento de la Plataforma de Frontales de correo electrónico\\n\\nOrganismo: Dirección General de Transformación Digital de los Servicios Públicos\\n\\nVer en Contratero: https://contratero.es/contracts/26 009 SR JD AS OB31
URL:https://contratero.es/contracts/26 009 SR JD AS OB31
STATUS:CONFIRMED
BEGIN:VALARM
TRIGGER:-P1D
ACTION:DISPLAY
DESCRIPTION:Recordatorio: Mantenimiento de la Plataforma
END:VALARM
END:VEVENT
END:VCALENDAR